BEGIN:VCALENDAR
VERSION:2.0
PRODID:-//Cola City Homeschoolers - ECPv6.15.20//NONSGML v1.0//EN
CALSCALE:GREGORIAN
METHOD:PUBLISH
X-WR-CALNAME:Cola City Homeschoolers
X-ORIGINAL-URL:https://www.colacityhomeschoolers.com
X-WR-CALDESC:Events for Cola City Homeschoolers
REFRESH-INTERVAL;VALUE=DURATION:PT1H
X-Robots-Tag:noindex
X-PUBLISHED-TTL:PT1H
BEGIN:VTIMEZONE
TZID:UTC
BEGIN:STANDARD
TZOFFSETFROM:+0000
TZOFFSETTO:+0000
TZNAME:UTC
DTSTART:20250101T000000
END:STANDARD
END:VTIMEZONE
BEGIN:VEVENT
DTSTART;TZID=UTC:20260418T100000
DTEND;TZID=UTC:20260418T140000
DTSTAMP:20260422T005816
CREATED:20260303T133201Z
LAST-MODIFIED:20260303T133202Z
UID:32005-1776506400-1776520800@www.colacityhomeschoolers.com
SUMMARY:Curriculum & Resource Fair
DESCRIPTION:Curriculum & Resource Fair\nhosted by: Trinity Homeschool Academy\nSaturday\, April 18 from 10am-2pm\nOpen to the Public — Donation Entry\nNOTE: This in NOT hosted by Cola City Homeschoolers. Please contact Trinity Academy for more information: CLICK HERE \nCurriculum\, STEAM\, Art\, 4H\, Sewing and other free activities. Homeschooling in SC information–and more! \nAdmission: Canned Goods Donation\nVendors: Click HERE to reserve a space \nLocation: Restoration Life Ministries 4208 Rhame Road\, Columbia\, SC
URL:https://www.colacityhomeschoolers.com/event/curriculum-resource-fair/
LOCATION:In Person
CATEGORIES:Events,FREE,Not Hosted by Cola City,Parent
END:VEVENT
BEGIN:VEVENT
DTSTART;TZID=UTC:20260425T080000
DTEND;TZID=UTC:20260425T170000
DTSTAMP:20260422T005816
CREATED:20260313T190334Z
LAST-MODIFIED:20260313T190335Z
UID:32030-1777104000-1777136400@www.colacityhomeschoolers.com
SUMMARY:Blossoming Together Conference
DESCRIPTION:Blossoming Together Conference\nby Homeschool Charleston\nSaturday\, April 25th from 10am-4pm\nClick here to register\nNote: This event is not hosted by Cola City Homeschoolers. But\, SC Homeschooling Connection will be at the Vendor Hall\, so stop by our vendor space. \nLocation: Northwoods Baptist Church\, Charleston\nTickets: $10/adult. Childcare extra. \nGet ready for an exciting and fulfilling event! The 2026 Blossoming Together Homeschool Convention will be packed with vendors and include a full day of seminars! Vendors will include local co-ops\, associations\, classes\, programs\, social groups\, businesses\, curriculums\, and much more! Check out the FAQ page if you have any questions! \nThis year we are so excited to be partnering with Marea Parson from Recess & Results to offer on-site childcare! This will be separate registration and cost. \n More information: Click HERE
URL:https://www.colacityhomeschoolers.com/event/blossoming-together-conference/
LOCATION:In Person
CATEGORIES:Events,Not Hosted by Cola City
END:VEVENT
BEGIN:VEVENT
DTSTART;TZID=UTC:20260426T110000
DTEND;TZID=UTC:20260426T150000
DTSTAMP:20260422T005816
CREATED:20260313T185348Z
LAST-MODIFIED:20260313T185514Z
UID:32026-1777201200-1777215600@www.colacityhomeschoolers.com
SUMMARY:Irmo International Festival
DESCRIPTION:Irmo International Festival\nPublic event: Not hosted by Cola City\nSunday\, April 26\nMore Info CLICK HERE\nThe Sharpvue Irmo International Festival (SIIF) is a nonprofit event dedicated to celebrating the cultures\, traditions\, and people that make our community vibrant. Join us for a lively day of international food\, music\, performances\, and activities that bring neighbors together through shared experiences. \nSunday\, April 26\, 2026Moore Park · Irmo\, South Carolina \nCome experience the flavors\, sounds\, and stories of cultures from around the world! It’s a day of connection\, discovery\, and fun for all ages. \nWhat to Expect:• International food vendors• Cultural performances and music• Local vendors and artisans• Family-friendly activities• Community celebration of global cultures
URL:https://www.colacityhomeschoolers.com/event/irmo-international-festival/
LOCATION:In Person
CATEGORIES:All Ages,FREE,Not Hosted by Cola City
END:VEVENT
BEGIN:VEVENT
DTSTART;TZID=UTC:20260501T120000
DTEND;TZID=UTC:20260501T140000
DTSTAMP:20260422T005816
CREATED:20260212T193147Z
LAST-MODIFIED:20260212T193148Z
UID:31931-1777636800-1777644000@www.colacityhomeschoolers.com
SUMMARY:Homeschool Game Day: May
DESCRIPTION:Homeschool Game Day\nby Firefly Toys & Games\nFirst Friday of the Month\nAll Ages — Free\nNote: This is not a Cola City Event. We are meeting up there–so keep an eye out for other Cola City connections! \nThis free event is the First Friday of the month from 12-2pm. Open to all ages. Located at Firefly Toys & Games\, 736 Saint Andrews Rd Ste C\, Columbia\, SC \nFirefly staff will be highlighting and teaching educational board games which cover a range of subjects\, such as: Math\, Science\, Geography\, Chemistry and many more. \nUse games for education; come learn about it.\nAnd look for other Cola City Homeschoolers! We’re scheduling this as a meet-up time/location for our Cola City PLUS initiative. Socializing and communnity building with “Third Place” spaces. Read more about Socialization with Cola City PLUS \nNo need to sign up–just show up.\nCommunication updates thru Our School Hangout App.\nSet up your account to try for free now (pay later\, only $5/month)
URL:https://www.colacityhomeschoolers.com/event/homeschool-game-day-may-2/
LOCATION:In Person
CATEGORIES:All Ages,FREE,Not Hosted by Cola City
END:VEVENT
BEGIN:VEVENT
DTSTART;TZID=UTC:20260516T100000
DTEND;TZID=UTC:20260517T170000
DTSTAMP:20260422T005816
CREATED:20260212T192645Z
LAST-MODIFIED:20260212T192646Z
UID:31924-1778925600-1779037200@www.colacityhomeschoolers.com
SUMMARY:Festival at the Friar's Gate
DESCRIPTION:Festival of the Friar’s Gate\nMay 16-17\nMoore Park in Irmo\, SC 29063\nPublic Event — Free\nNOTE: This is a public event\, *not* hosted by Cola City Homeschoolers. More information HERE \nHEAR YE\, HEAR YE! Let it be known throughout the realm! \nThe First Grand Festival at the Friar’s Gate shall be held upon the 16th and 17th days of May in the Year of our Realm\, 2026 within the Irmese village of Ravenmoore\, where sea serpents guard the lake and old magic stirs in the soil. \nCome ye one\, come ye all\, to a place out of time\, where jesters shall tumble\, blades shall clash\, music shall rise\, and tankards shall overflow with cheer. Marvel at strange beasts\, rare crafts\, enchanted wares\, and ancient customs. Witness contests of skill and honor\, and feast like kings ‘neath the banners of yore. \nLet thy garb be fine and thy spirits high\, for the gates of the fair shall open at the tenth bell. \nRavenmoore awaits thee with open arms\, and the old road knows the way… \n~ So Declared in Ink and Wax\, by the Keeper of the Raven Banner
URL:https://www.colacityhomeschoolers.com/event/festival-at-the-friars-gate/
CATEGORIES:All Ages,FREE,Not Hosted by Cola City
END:VEVENT
BEGIN:VEVENT
DTSTART;TZID=UTC:20260523T093000
DTEND;TZID=UTC:20260523T113000
DTSTAMP:20260422T005816
CREATED:20260406T184621Z
LAST-MODIFIED:20260407T000403Z
UID:32049-1779528600-1779535800@www.colacityhomeschoolers.com
SUMMARY:K5 Graduation & Awards Program
DESCRIPTION:K5 Graduation & Awards Program\nby SC TOP & Cola City PLUS\nSaturday May 23\, 10-11:30am\nPre-registeration by May 8th\nAll Ages — $15/participant\nNote: the event is hosted by SC TOP Association\, but is open to all Cola City Homeschoolers. REGISTRATION HERE \nLocation: St. David’s Lutheran Church (Gym) 132 St Davids Church Rd\, West Columbia\, SC 29170 \nCelebrate the important milestones you’ve accomplished this year! We invite all SC TOP members to participate in this celebration of learning! \n\nKindergarten Graduation or\nCompleting the 1st year of Homeschooling at any grade level\n5th Grade and 8th Grade Graduation\nAny other Milestone acomplishment or grade level promotion\n\nWe’ll compile a promo video that you can share with your friends and family. We’ll also have a fun presentation with minute-to-win-it games and award certificates for all participants. \nNote: This non-religious\, informal program — uniquely homeschool. Caps/gowns are optional. \nFill out the pre-registration form for each student honoree that you want included in the video and/or the live program. Pre-registeration by May 8th to be included in promo video. Click here to see 2022 video\,  2023 video\, 2024 video\, and 2025 video \n\nVideo participants (free): Picture will be included (no names or details about the student will be included in the video–for privacy and safety in sharing publicly to our extended friends and family). See examples of previous promo video. Digital Award Certificate will be emailed.\nProgram participants ($15): Name and photo of the student will be included in the live in-person event\, but no other contact information will be revealed for privacy and safety. Also video details above. Printed Certificate will be presented in person.\n\nClick HERE to REGISTER
URL:https://www.colacityhomeschoolers.com/event/k5-graduation-awards-program/
CATEGORIES:All Ages,Events
END:VEVENT
BEGIN:VEVENT
DTSTART;TZID=UTC:20260605T080000
DTEND;TZID=UTC:20260605T170000
DTSTAMP:20260422T005816
CREATED:20260212T193354Z
LAST-MODIFIED:20260212T193355Z
UID:31935-1780646400-1780678800@www.colacityhomeschoolers.com
SUMMARY:Homeschool Game Day: June
DESCRIPTION:Homeschool Game Day\nby Firefly Toys & Games\nFirst Friday of the Month\nAll Ages — Free\nNote: This is not a Cola City Event. We are meeting up there–so keep an eye out for other Cola City connections! \nThis free event is the First Friday of the month from 12-2pm. Open to all ages. Located at Firefly Toys & Games\, 736 Saint Andrews Rd Ste C\, Columbia\, SC \nFirefly staff will be highlighting and teaching educational board games which cover a range of subjects\, such as: Math\, Science\, Geography\, Chemistry and many more. \nUse games for education; come learn about it.\nAnd look for other Cola City Homeschoolers! We’re scheduling this as a meet-up time/location for our Cola City PLUS initiative. Socializing and communnity building with “Third Place” spaces. Read more about Socialization with Cola City PLUS \nNo need to sign up–just show up.\nCommunication updates thru Our School Hangout App.\nSet up your account to try for free now (pay later\, only $5/month)
URL:https://www.colacityhomeschoolers.com/event/homeschool-game-day-june-2/
LOCATION:In Person
CATEGORIES:All Ages,FREE,Not Hosted by Cola City
END:VEVENT
BEGIN:VEVENT
DTSTART;TZID=UTC:20260627T100000
DTEND;TZID=UTC:20260627T160000
DTSTAMP:20260422T005816
CREATED:20260303T131257Z
LAST-MODIFIED:20260303T131351Z
UID:32003-1782554400-1782576000@www.colacityhomeschoolers.com
SUMMARY:Cola City Homeschool Expo
DESCRIPTION:Cola City Homeschool Expo\nSaturday\, June 27th\, 10 am-4 pm\nJamil Center\, 206 Jamil Road\, Columbia\, SC 29210\nAdmission $5/$8 — Open to the Public\nWhether you’re considering homeschooling\, new to it\, or a seasoned homeschooler\, Cola City Homeschool Expo 2026 is the place to Connect\, Expand\, and Thrive! \nThis year’s theme\, “Grow Your Village” celebrates building strong community connections while exploring diverse learning resources. Our Expo is designed to create a welcoming space where every family\, learner\, and educator feels included\, valued\, and inspired to discover new ideas. \nWe are looking for vendors and exhibitors who bring a variety of educational resources\, creative products\, and services that reflect diverse learning styles\, cultural backgrounds\, and ability levels. Join us in cultivating a vibrant\, connected community — where together\, we can make meaningful connections\, broaden our bookshelves\, and thrive as a collective. \nMORE INFORMATION: Click HERE
URL:https://www.colacityhomeschoolers.com/event/cola-city-homeschool-expo/
LOCATION:In Person
CATEGORIES:All Ages,Cola City PLUS,Events,Parent,Teen
END:VEVENT
END:VCALENDAR