BEGIN:VCALENDAR
VERSION:2.0
PRODID:-//Cola City Homeschoolers - ECPv6.15.20//NONSGML v1.0//EN
CALSCALE:GREGORIAN
METHOD:PUBLISH
X-WR-CALNAME:Cola City Homeschoolers
X-ORIGINAL-URL:https://www.colacityhomeschoolers.com
X-WR-CALDESC:Events for Cola City Homeschoolers
REFRESH-INTERVAL;VALUE=DURATION:PT1H
X-Robots-Tag:noindex
X-PUBLISHED-TTL:PT1H
BEGIN:VTIMEZONE
TZID:UTC
BEGIN:STANDARD
TZOFFSETFROM:+0000
TZOFFSETTO:+0000
TZNAME:UTC
DTSTART:20250101T000000
END:STANDARD
END:VTIMEZONE
BEGIN:VEVENT
DTSTART;TZID=UTC:20260225T123000
DTEND;TZID=UTC:20260225T143000
DTSTAMP:20260421T231420
CREATED:20260126T174835Z
LAST-MODIFIED:20260126T174835Z
UID:31902-1772022600-1772029800@www.colacityhomeschoolers.com
SUMMARY:Park Meet-Up: February
DESCRIPTION:Let Grow — Play Club park meet up\nWednesdays: 12:30pm-2:30pm\nFebruary 11 & 25\nat Finlay Park\nAll ages\, even Teens and Adults. It’s unstructured social time.\n\n\nThis is not just another playground meet-up group. It’s a new kind of play program. Intentionally designed to foster independence\, social development\, problem solving–for all ages (especially 8+). Families with younger siblings are also welcome\, though.\n\n\n\nWe hope to see this grow and expand to more projects and activities to develop interpersonal connections as well as personal agency. Community building and collaboration!\n\n\n\nFor more information about the “Let Grow” initiative\, click here: https://www.colacityhomeschoolers.com/let-grow-play-club/ \n\n\n\nNo sign up\, just show up. In case of inclement weather: Meet at Main Branch of Richland Library Downtown \nUpdates in Our School Hangout App.\nSet up you account here to try it for free.
URL:https://www.colacityhomeschoolers.com/event/park-meet-up-february-2/
LOCATION:In Person
CATEGORIES:All Ages,FREE,Interest Club,Let Grow Club,Teen
END:VEVENT
BEGIN:VEVENT
DTSTART;TZID=UTC:20260306T120000
DTEND;TZID=UTC:20260306T140000
DTSTAMP:20260421T231420
CREATED:20260212T192840Z
LAST-MODIFIED:20260212T192841Z
UID:31927-1772798400-1772805600@www.colacityhomeschoolers.com
SUMMARY:Homeschool Game Day: March
DESCRIPTION:Homeschool Game Day\nby Firefly Toys & Games\nFirst Friday of the Month\nAll Ages — Free\nNote: This is not a Cola City Event. We are meeting up there–so keep an eye out for other Cola City connections! \nThis free event is the First Friday of the month from 12-2pm. Open to all ages. Located at Firefly Toys & Games\, 736 Saint Andrews Rd Ste C\, Columbia\, SC \nFirefly staff will be highlighting and teaching educational board games which cover a range of subjects\, such as: Math\, Science\, Geography\, Chemistry and many more. \nUse games for education; come learn about it.\nAnd look for other Cola City Homeschoolers! We’re scheduling this as a meet-up time/location for our Cola City PLUS initiative. Socializing and communnity building with “Third Place” spaces. Read more about Socialization with Cola City PLUS \nNo need to sign up–just show up.\nCommunication updates thru Our School Hangout App.\nSet up your account to try for free now (pay later\, only $5/month)
URL:https://www.colacityhomeschoolers.com/event/homeschool-game-day-march-2/
CATEGORIES:All Ages,FREE,Not Hosted by Cola City
END:VEVENT
BEGIN:VEVENT
DTSTART;TZID=UTC:20260311T123000
DTEND;TZID=UTC:20260311T143000
DTSTAMP:20260421T231420
CREATED:20260303T140155Z
LAST-MODIFIED:20260303T140155Z
UID:32013-1773232200-1773239400@www.colacityhomeschoolers.com
SUMMARY:Play Club: March
DESCRIPTION:Let Grow — Play Club park meet up\nWednesdays: 12:30pm-2:30pm\nMarch 11 & 25\nat Finlay Park\nAll ages\, even Teens and Adults. It’s unstructured social time.\n\n\nThis is not just another playground meet-up group. It’s a new kind of play program. Intentionally designed to foster independence\, social development\, problem solving–for all ages (especially 8+). Families with younger siblings are also welcome\, though.\n\n\n\nWe hope to see this grow and expand to more projects and activities to develop interpersonal connections as well as personal agency. Community building and collaboration!\n\n\n\nFor more information about the “Let Grow” initiative\, click here: https://www.colacityhomeschoolers.com/let-grow-play-club/ \n\n\n\n\nNo sign up\, just show up. In case of inclement weather: Meet at Main Branch of Richland Library Downtown \nUpdates in Our School Hangout App.\nSet up you account here to try it for free.
URL:https://www.colacityhomeschoolers.com/event/play-club-march/
LOCATION:In Person
CATEGORIES:All Ages,Cola City PLUS,FREE,Let Grow Club,Teen
END:VEVENT
BEGIN:VEVENT
DTSTART;TZID=UTC:20260320T100000
DTEND;TZID=UTC:20260320T120000
DTSTAMP:20260421T231420
CREATED:20260303T134431Z
LAST-MODIFIED:20260303T134432Z
UID:32010-1774000800-1774008000@www.colacityhomeschoolers.com
SUMMARY:Career Day
DESCRIPTION:College & Career Day 2026\nFriday\, March 20th\, 10am-noon\nHosted by: PAC Athletics\nTeens/Parents — FREE\nNOTE: This event is NOT hosted by Cola City Homeschoolers. Please contact PAC Athletics for more information: Click HERE. \nLocation: 578 Ander Dr\, Columbia\, SC 29203\nAdmission is FREE\, but preregister to reserve your space \nCome learn more about various career opportunities and colleges to help you as you prepare for your next season! PAC Athletics is excited to have several vendors there for students and graduates. Here are just a few participating businesses and colleges: \nBlanchard Machinery\nCarolina Chillers\nStill Hopes\nCarolina Comfort Solutions\nWater Mission\nHoffman Mechanical\nPalmetto Propane\nCarolina Industrial Products\nMashburn Construction\nMighty Kidz Services\nColumbia International University\nMidlands Tech\nErkine College \nand more… \nPREREGISTER HERE
URL:https://www.colacityhomeschoolers.com/event/career-day/
LOCATION:In Person
CATEGORIES:FREE,Not Hosted by Cola City,Parent,Teen
END:VEVENT
BEGIN:VEVENT
DTSTART;TZID=UTC:20260325T123000
DTEND;TZID=UTC:20260325T143000
DTSTAMP:20260421T231420
CREATED:20260303T140304Z
LAST-MODIFIED:20260303T140304Z
UID:32016-1774441800-1774449000@www.colacityhomeschoolers.com
SUMMARY:Play Club: March
DESCRIPTION:Let Grow — Play Club park meet up\nWednesdays: 12:30pm-2:30pm\nMarch 11 & 25\nat Finlay Park\nAll ages\, even Teens and Adults. It’s unstructured social time.\n\n\nThis is not just another playground meet-up group. It’s a new kind of play program. Intentionally designed to foster independence\, social development\, problem solving–for all ages (especially 8+). Families with younger siblings are also welcome\, though.\n\n\n\nWe hope to see this grow and expand to more projects and activities to develop interpersonal connections as well as personal agency. Community building and collaboration!\n\n\n\nFor more information about the “Let Grow” initiative\, click here: https://www.colacityhomeschoolers.com/let-grow-play-club/ \n\n\n\n\nNo sign up\, just show up. In case of inclement weather: Meet at Main Branch of Richland Library Downtown \nUpdates in Our School Hangout App.\nSet up you account here to try it for free.
URL:https://www.colacityhomeschoolers.com/event/play-club-march-2/
LOCATION:In Person
CATEGORIES:All Ages,Cola City PLUS,FREE,Teen
END:VEVENT
BEGIN:VEVENT
DTSTART;TZID=UTC:20260327T190000
DTEND;TZID=UTC:20260329T160000
DTSTAMP:20260421T231420
CREATED:20260318T194341Z
LAST-MODIFIED:20260318T194510Z
UID:32033-1774638000-1774800000@www.colacityhomeschoolers.com
SUMMARY:Read Freely Fest
DESCRIPTION:Read Freely Fest\nBy Richland County Library\nMarch 27-29th\nFREE — All Ages\nMore information: Click HERE\n  \nLocation: 1431 Assembly Street\, Columbia \nRead Freely Fest is South Carolina’s newest book festival\, celebrating stories and ideas with bestselling author talks\, panels featuring fresh voices\, performances and interactive activities. Each spring at Richland Library Main in downtown Columbia\, you can meet favorite authors\, discover new reads and connect with readers and writers who share inspiring perspectives. \nSee you at Read Freely Fest\, where stories find good company.
URL:https://www.colacityhomeschoolers.com/event/read-freely-fest-2/
LOCATION:In Person
CATEGORIES:All Ages,Events,FREE,Not Hosted by Cola City,Parent,Teen
END:VEVENT
BEGIN:VEVENT
DTSTART;TZID=UTC:20260403T120000
DTEND;TZID=UTC:20260403T140000
DTSTAMP:20260421T231420
CREATED:20260212T193015Z
LAST-MODIFIED:20260212T193016Z
UID:31929-1775217600-1775224800@www.colacityhomeschoolers.com
SUMMARY:Homeschool Game Day: April
DESCRIPTION:Homeschool Game Day\nby Firefly Toys & Games\nFirst Friday of the Month\nAll Ages — Free\nNote: This is not a Cola City Event. We are meeting up there–so keep an eye out for other Cola City connections! \nThis free event is the First Friday of the month from 12-2pm. Open to all ages. Located at Firefly Toys & Games\, 736 Saint Andrews Rd Ste C\, Columbia\, SC \nFirefly staff will be highlighting and teaching educational board games which cover a range of subjects\, such as: Math\, Science\, Geography\, Chemistry and many more. \nUse games for education; come learn about it.\nAnd look for other Cola City Homeschoolers! We’re scheduling this as a meet-up time/location for our Cola City PLUS initiative. Socializing and communnity building with “Third Place” spaces. Read more about Socialization with Cola City PLUS \nNo need to sign up–just show up.\nCommunication updates thru Our School Hangout App.\nSet up your account to try for free now (pay later\, only $5/month)
URL:https://www.colacityhomeschoolers.com/event/homeschool-game-day-april-2/
LOCATION:In Person
CATEGORIES:All Ages,FREE,Not Hosted by Cola City
END:VEVENT
BEGIN:VEVENT
DTSTART;TZID=UTC:20260408T080000
DTEND;TZID=UTC:20260408T170000
DTSTAMP:20260421T231420
CREATED:20260403T154501Z
LAST-MODIFIED:20260405T134148Z
UID:32043-1775635200-1775667600@www.colacityhomeschoolers.com
SUMMARY:Play Club: Interest Survey
DESCRIPTION:I believe in the mission of building community and this initiative to give our kids agency and autonomy. We get sparks of enthusiasm\, that have never really taken off though. Let’s just take a moment to reconsider the possibilities for putting our efforts together. Please fill out this form to get involved: Loading…
URL:https://www.colacityhomeschoolers.com/event/play-club-april/
LOCATION:Virtual Event
CATEGORIES:All Ages,FREE,Interest Club,Let Grow Club,Teen,Virtual
END:VEVENT
BEGIN:VEVENT
DTSTART;TZID=UTC:20260414T110000
DTEND;TZID=UTC:20260414T120000
DTSTAMP:20260421T231420
CREATED:20260409T181401Z
LAST-MODIFIED:20260409T181401Z
UID:32055-1776164400-1776168000@www.colacityhomeschoolers.com
SUMMARY:Virtual SC Open House
DESCRIPTION:  \n \nHomeschool Meet/Greet\nby Virtual SC\nTuesday\, April 14 @ 11 am\nParent/Educators — FREE\nNote: This is not a Cola City event. Please contact Virtual SC for more information. \nThe VirtualSC Outreach and Support Team invite you to their annual Homeschool Meet and Greet on April 14th at 11 am​​. This virtual event is a great opportunity to learn more about the VirtualSC program\, including course registration and current course offerings\, and how they support your student’s homeschooling experience. \nClick here to register \nRead more about Virtual SC–by the SC Homeschooling Connection: What is Virtual SC? It’s a great resource to consider including in your homeschool course of study.
URL:https://www.colacityhomeschoolers.com/event/virtual-sc-open-house/
LOCATION:Virtual Event
CATEGORIES:Events,FREE,Not Hosted by Cola City,Parent
END:VEVENT
BEGIN:VEVENT
DTSTART;TZID=UTC:20260417T080000
DTEND;TZID=UTC:20260419T170000
DTSTAMP:20260421T231420
CREATED:20260303T130817Z
LAST-MODIFIED:20260303T130818Z
UID:32000-1776412800-1776618000@www.colacityhomeschoolers.com
SUMMARY:Break into College Conference
DESCRIPTION:NOTE: This is NOT a Cola City event. Please contact the host for more information and registration: Click HERE\n\nBarrier Breakers\, a national education nonprofit\, is hosting our annual Break Into College Conference\, a free\, fully virtual event designed to help high school students and families navigate the college admissions process with clarity and confidence.\n\n\n\n\n\n April 17–19\, 2026 Fully Virtual & Free Open to students nationwide Accessible in English & Spanish All sessions recorded\n\n\n\n\n\nStudents will hear directly from:\n\n\n\n\nAdmissions deans and college representatives\n\n\nFinancial aid experts\n\n\nScholarship leaders\n\n\nTest prep professionals\n\n\nEssay specialists\n\n\n\n\n\n\n\n\nFeatured speakers include:\n\n\n\n\nJulissa Arce\, producer\, activist\, and bestselling author\n\n\nEthan Sawyer\, The College Essay Guy\n\n\nJed Applerouth\, President of Applerouth Tutoring\n\n\n\n\n\n\nPlus 30+ additional expert speakers and panels.\n\n\nStudents who register will also be eligible for scholarship giveaways\, free test prep opportunities\, book bundles\, and additional resources announced throughout the conference.\n\n\nWe would be grateful if you would share this opportunity with your students and families.\n\n\n Register here: https://barrier-breakers.org/
URL:https://www.colacityhomeschoolers.com/event/break-into-college-conference/
LOCATION:Virtual Event
CATEGORIES:FREE,Not Hosted by Cola City,Parent,Teen,Virtual
END:VEVENT
BEGIN:VEVENT
DTSTART;TZID=UTC:20260418T100000
DTEND;TZID=UTC:20260418T140000
DTSTAMP:20260421T231420
CREATED:20260303T133201Z
LAST-MODIFIED:20260303T133202Z
UID:32005-1776506400-1776520800@www.colacityhomeschoolers.com
SUMMARY:Curriculum & Resource Fair
DESCRIPTION:Curriculum & Resource Fair\nhosted by: Trinity Homeschool Academy\nSaturday\, April 18 from 10am-2pm\nOpen to the Public — Donation Entry\nNOTE: This in NOT hosted by Cola City Homeschoolers. Please contact Trinity Academy for more information: CLICK HERE \nCurriculum\, STEAM\, Art\, 4H\, Sewing and other free activities. Homeschooling in SC information–and more! \nAdmission: Canned Goods Donation\nVendors: Click HERE to reserve a space \nLocation: Restoration Life Ministries 4208 Rhame Road\, Columbia\, SC
URL:https://www.colacityhomeschoolers.com/event/curriculum-resource-fair/
LOCATION:In Person
CATEGORIES:Events,FREE,Not Hosted by Cola City,Parent
END:VEVENT
BEGIN:VEVENT
DTSTART;TZID=UTC:20260425T080000
DTEND;TZID=UTC:20260425T170000
DTSTAMP:20260421T231420
CREATED:20260313T190334Z
LAST-MODIFIED:20260313T190335Z
UID:32030-1777104000-1777136400@www.colacityhomeschoolers.com
SUMMARY:Blossoming Together Conference
DESCRIPTION:Blossoming Together Conference\nby Homeschool Charleston\nSaturday\, April 25th from 10am-4pm\nClick here to register\nNote: This event is not hosted by Cola City Homeschoolers. But\, SC Homeschooling Connection will be at the Vendor Hall\, so stop by our vendor space. \nLocation: Northwoods Baptist Church\, Charleston\nTickets: $10/adult. Childcare extra. \nGet ready for an exciting and fulfilling event! The 2026 Blossoming Together Homeschool Convention will be packed with vendors and include a full day of seminars! Vendors will include local co-ops\, associations\, classes\, programs\, social groups\, businesses\, curriculums\, and much more! Check out the FAQ page if you have any questions! \nThis year we are so excited to be partnering with Marea Parson from Recess & Results to offer on-site childcare! This will be separate registration and cost. \n More information: Click HERE
URL:https://www.colacityhomeschoolers.com/event/blossoming-together-conference/
LOCATION:In Person
CATEGORIES:Events,Not Hosted by Cola City
END:VEVENT
BEGIN:VEVENT
DTSTART;TZID=UTC:20260426T110000
DTEND;TZID=UTC:20260426T150000
DTSTAMP:20260421T231420
CREATED:20260313T185348Z
LAST-MODIFIED:20260313T185514Z
UID:32026-1777201200-1777215600@www.colacityhomeschoolers.com
SUMMARY:Irmo International Festival
DESCRIPTION:Irmo International Festival\nPublic event: Not hosted by Cola City\nSunday\, April 26\nMore Info CLICK HERE\nThe Sharpvue Irmo International Festival (SIIF) is a nonprofit event dedicated to celebrating the cultures\, traditions\, and people that make our community vibrant. Join us for a lively day of international food\, music\, performances\, and activities that bring neighbors together through shared experiences. \nSunday\, April 26\, 2026Moore Park · Irmo\, South Carolina \nCome experience the flavors\, sounds\, and stories of cultures from around the world! It’s a day of connection\, discovery\, and fun for all ages. \nWhat to Expect:• International food vendors• Cultural performances and music• Local vendors and artisans• Family-friendly activities• Community celebration of global cultures
URL:https://www.colacityhomeschoolers.com/event/irmo-international-festival/
LOCATION:In Person
CATEGORIES:All Ages,FREE,Not Hosted by Cola City
END:VEVENT
BEGIN:VEVENT
DTSTART;TZID=UTC:20260501T120000
DTEND;TZID=UTC:20260501T140000
DTSTAMP:20260421T231420
CREATED:20260212T193147Z
LAST-MODIFIED:20260212T193148Z
UID:31931-1777636800-1777644000@www.colacityhomeschoolers.com
SUMMARY:Homeschool Game Day: May
DESCRIPTION:Homeschool Game Day\nby Firefly Toys & Games\nFirst Friday of the Month\nAll Ages — Free\nNote: This is not a Cola City Event. We are meeting up there–so keep an eye out for other Cola City connections! \nThis free event is the First Friday of the month from 12-2pm. Open to all ages. Located at Firefly Toys & Games\, 736 Saint Andrews Rd Ste C\, Columbia\, SC \nFirefly staff will be highlighting and teaching educational board games which cover a range of subjects\, such as: Math\, Science\, Geography\, Chemistry and many more. \nUse games for education; come learn about it.\nAnd look for other Cola City Homeschoolers! We’re scheduling this as a meet-up time/location for our Cola City PLUS initiative. Socializing and communnity building with “Third Place” spaces. Read more about Socialization with Cola City PLUS \nNo need to sign up–just show up.\nCommunication updates thru Our School Hangout App.\nSet up your account to try for free now (pay later\, only $5/month)
URL:https://www.colacityhomeschoolers.com/event/homeschool-game-day-may-2/
LOCATION:In Person
CATEGORIES:All Ages,FREE,Not Hosted by Cola City
END:VEVENT
BEGIN:VEVENT
DTSTART;TZID=UTC:20260516T100000
DTEND;TZID=UTC:20260517T170000
DTSTAMP:20260421T231420
CREATED:20260212T192645Z
LAST-MODIFIED:20260212T192646Z
UID:31924-1778925600-1779037200@www.colacityhomeschoolers.com
SUMMARY:Festival at the Friar's Gate
DESCRIPTION:Festival of the Friar’s Gate\nMay 16-17\nMoore Park in Irmo\, SC 29063\nPublic Event — Free\nNOTE: This is a public event\, *not* hosted by Cola City Homeschoolers. More information HERE \nHEAR YE\, HEAR YE! Let it be known throughout the realm! \nThe First Grand Festival at the Friar’s Gate shall be held upon the 16th and 17th days of May in the Year of our Realm\, 2026 within the Irmese village of Ravenmoore\, where sea serpents guard the lake and old magic stirs in the soil. \nCome ye one\, come ye all\, to a place out of time\, where jesters shall tumble\, blades shall clash\, music shall rise\, and tankards shall overflow with cheer. Marvel at strange beasts\, rare crafts\, enchanted wares\, and ancient customs. Witness contests of skill and honor\, and feast like kings ‘neath the banners of yore. \nLet thy garb be fine and thy spirits high\, for the gates of the fair shall open at the tenth bell. \nRavenmoore awaits thee with open arms\, and the old road knows the way… \n~ So Declared in Ink and Wax\, by the Keeper of the Raven Banner
URL:https://www.colacityhomeschoolers.com/event/festival-at-the-friars-gate/
CATEGORIES:All Ages,FREE,Not Hosted by Cola City
END:VEVENT
BEGIN:VEVENT
DTSTART;TZID=UTC:20260523T093000
DTEND;TZID=UTC:20260523T113000
DTSTAMP:20260421T231420
CREATED:20260406T184621Z
LAST-MODIFIED:20260407T000403Z
UID:32049-1779528600-1779535800@www.colacityhomeschoolers.com
SUMMARY:K5 Graduation & Awards Program
DESCRIPTION:K5 Graduation & Awards Program\nby SC TOP & Cola City PLUS\nSaturday May 23\, 10-11:30am\nPre-registeration by May 8th\nAll Ages — $15/participant\nNote: the event is hosted by SC TOP Association\, but is open to all Cola City Homeschoolers. REGISTRATION HERE \nLocation: St. David’s Lutheran Church (Gym) 132 St Davids Church Rd\, West Columbia\, SC 29170 \nCelebrate the important milestones you’ve accomplished this year! We invite all SC TOP members to participate in this celebration of learning! \n\nKindergarten Graduation or\nCompleting the 1st year of Homeschooling at any grade level\n5th Grade and 8th Grade Graduation\nAny other Milestone acomplishment or grade level promotion\n\nWe’ll compile a promo video that you can share with your friends and family. We’ll also have a fun presentation with minute-to-win-it games and award certificates for all participants. \nNote: This non-religious\, informal program — uniquely homeschool. Caps/gowns are optional. \nFill out the pre-registration form for each student honoree that you want included in the video and/or the live program. Pre-registeration by May 8th to be included in promo video. Click here to see 2022 video\,  2023 video\, 2024 video\, and 2025 video \n\nVideo participants (free): Picture will be included (no names or details about the student will be included in the video–for privacy and safety in sharing publicly to our extended friends and family). See examples of previous promo video. Digital Award Certificate will be emailed.\nProgram participants ($15): Name and photo of the student will be included in the live in-person event\, but no other contact information will be revealed for privacy and safety. Also video details above. Printed Certificate will be presented in person.\n\nClick HERE to REGISTER
URL:https://www.colacityhomeschoolers.com/event/k5-graduation-awards-program/
CATEGORIES:All Ages,Events
END:VEVENT
BEGIN:VEVENT
DTSTART;TZID=UTC:20260605T080000
DTEND;TZID=UTC:20260605T170000
DTSTAMP:20260421T231420
CREATED:20260212T193354Z
LAST-MODIFIED:20260212T193355Z
UID:31935-1780646400-1780678800@www.colacityhomeschoolers.com
SUMMARY:Homeschool Game Day: June
DESCRIPTION:Homeschool Game Day\nby Firefly Toys & Games\nFirst Friday of the Month\nAll Ages — Free\nNote: This is not a Cola City Event. We are meeting up there–so keep an eye out for other Cola City connections! \nThis free event is the First Friday of the month from 12-2pm. Open to all ages. Located at Firefly Toys & Games\, 736 Saint Andrews Rd Ste C\, Columbia\, SC \nFirefly staff will be highlighting and teaching educational board games which cover a range of subjects\, such as: Math\, Science\, Geography\, Chemistry and many more. \nUse games for education; come learn about it.\nAnd look for other Cola City Homeschoolers! We’re scheduling this as a meet-up time/location for our Cola City PLUS initiative. Socializing and communnity building with “Third Place” spaces. Read more about Socialization with Cola City PLUS \nNo need to sign up–just show up.\nCommunication updates thru Our School Hangout App.\nSet up your account to try for free now (pay later\, only $5/month)
URL:https://www.colacityhomeschoolers.com/event/homeschool-game-day-june-2/
LOCATION:In Person
CATEGORIES:All Ages,FREE,Not Hosted by Cola City
END:VEVENT
BEGIN:VEVENT
DTSTART;TZID=UTC:20260627T100000
DTEND;TZID=UTC:20260627T160000
DTSTAMP:20260421T231420
CREATED:20260303T131257Z
LAST-MODIFIED:20260303T131351Z
UID:32003-1782554400-1782576000@www.colacityhomeschoolers.com
SUMMARY:Cola City Homeschool Expo
DESCRIPTION:Cola City Homeschool Expo\nSaturday\, June 27th\, 10 am-4 pm\nJamil Center\, 206 Jamil Road\, Columbia\, SC 29210\nAdmission $5/$8 — Open to the Public\nWhether you’re considering homeschooling\, new to it\, or a seasoned homeschooler\, Cola City Homeschool Expo 2026 is the place to Connect\, Expand\, and Thrive! \nThis year’s theme\, “Grow Your Village” celebrates building strong community connections while exploring diverse learning resources. Our Expo is designed to create a welcoming space where every family\, learner\, and educator feels included\, valued\, and inspired to discover new ideas. \nWe are looking for vendors and exhibitors who bring a variety of educational resources\, creative products\, and services that reflect diverse learning styles\, cultural backgrounds\, and ability levels. Join us in cultivating a vibrant\, connected community — where together\, we can make meaningful connections\, broaden our bookshelves\, and thrive as a collective. \nMORE INFORMATION: Click HERE
URL:https://www.colacityhomeschoolers.com/event/cola-city-homeschool-expo/
LOCATION:In Person
CATEGORIES:All Ages,Cola City PLUS,Events,Parent,Teen
END:VEVENT
END:VCALENDAR